BEGIN:VCALENDAR
VERSION:2.0
PRODID:-//MAC-Meckenheim e. V. - ECPv6.15.17//NONSGML v1.0//EN
CALSCALE:GREGORIAN
METHOD:PUBLISH
X-WR-CALNAME:MAC-Meckenheim e. V.
X-ORIGINAL-URL:https://mac-meckenheim.de
X-WR-CALDESC:Veranstaltungen für MAC-Meckenheim e. V.
REFRESH-INTERVAL;VALUE=DURATION:PT1H
X-Robots-Tag:noindex
X-PUBLISHED-TTL:PT1H
BEGIN:VTIMEZONE
TZID:Europe/Berlin
BEGIN:DAYLIGHT
TZOFFSETFROM:+0100
TZOFFSETTO:+0200
TZNAME:CEST
DTSTART:20230326T010000
END:DAYLIGHT
BEGIN:STANDARD
TZOFFSETFROM:+0200
TZOFFSETTO:+0100
TZNAME:CET
DTSTART:20231029T010000
END:STANDARD
BEGIN:DAYLIGHT
TZOFFSETFROM:+0100
TZOFFSETTO:+0200
TZNAME:CEST
DTSTART:20240331T010000
END:DAYLIGHT
BEGIN:STANDARD
TZOFFSETFROM:+0200
TZOFFSETTO:+0100
TZNAME:CET
DTSTART:20241027T010000
END:STANDARD
BEGIN:DAYLIGHT
TZOFFSETFROM:+0100
TZOFFSETTO:+0200
TZNAME:CEST
DTSTART:20250330T010000
END:DAYLIGHT
BEGIN:STANDARD
TZOFFSETFROM:+0200
TZOFFSETTO:+0100
TZNAME:CET
DTSTART:20251026T010000
END:STANDARD
END:VTIMEZONE
BEGIN:VEVENT
DTSTART;VALUE=DATE:20240624
DTEND;VALUE=DATE:20240625
DTSTAMP:20260425T133941
CREATED:20240216T114104Z
LAST-MODIFIED:20240216T114643Z
UID:697-1719187200-1719273599@mac-meckenheim.de
SUMMARY:RCK-Challenge
DESCRIPTION:24./25.06.2023 RCK-Challenge\nDetails | Reglement | Ausschreibung | Nennung | Facebook-Veranstaltung
URL:https://mac-meckenheim.de/rennen/rck-challenge/
LOCATION:MAC Meckenheim\, Siebengebirgsring\, Meckenheim\, NRW\, 53340\, Germany
CATEGORIES:Rennen
ATTACH;FMTTYPE=image/jpeg:https://mac-meckenheim.de/wp-content/uploads/2024/02/330774339_133795699621455_1555355757776521994_n.jpg
ORGANIZER;CN="MAC Meckenheim":MAILTO:vorstand@mac-meckenheim.de
END:VEVENT
END:VCALENDAR