BEGIN:VCALENDAR
VERSION:2.0
PRODID:-//MAC-Meckenheim e. V. - ECPv6.15.17//NONSGML v1.0//EN
CALSCALE:GREGORIAN
METHOD:PUBLISH
X-ORIGINAL-URL:https://mac-meckenheim.de
X-WR-CALDESC:Veranstaltungen für MAC-Meckenheim e. V.
REFRESH-INTERVAL;VALUE=DURATION:PT1H
X-Robots-Tag:noindex
X-PUBLISHED-TTL:PT1H
BEGIN:VTIMEZONE
TZID:Europe/Berlin
BEGIN:DAYLIGHT
TZOFFSETFROM:+0100
TZOFFSETTO:+0200
TZNAME:CEST
DTSTART:20230326T010000
END:DAYLIGHT
BEGIN:STANDARD
TZOFFSETFROM:+0200
TZOFFSETTO:+0100
TZNAME:CET
DTSTART:20231029T010000
END:STANDARD
BEGIN:DAYLIGHT
TZOFFSETFROM:+0100
TZOFFSETTO:+0200
TZNAME:CEST
DTSTART:20240331T010000
END:DAYLIGHT
BEGIN:STANDARD
TZOFFSETFROM:+0200
TZOFFSETTO:+0100
TZNAME:CET
DTSTART:20241027T010000
END:STANDARD
BEGIN:DAYLIGHT
TZOFFSETFROM:+0100
TZOFFSETTO:+0200
TZNAME:CEST
DTSTART:20250330T010000
END:DAYLIGHT
BEGIN:STANDARD
TZOFFSETFROM:+0200
TZOFFSETTO:+0100
TZNAME:CET
DTSTART:20251026T010000
END:STANDARD
END:VTIMEZONE
BEGIN:VEVENT
DTSTART;VALUE=DATE:20240811
DTEND;VALUE=DATE:20240812
DTSTAMP:20260421T150157
CREATED:20240715T104956Z
LAST-MODIFIED:20240904T085847Z
UID:740-1723334400-1723420799@mac-meckenheim.de
SUMMARY:11.08.2024 3.Lauf MAC-Challenge & DMC SK-Lauf West
DESCRIPTION:Details | Reglement | Ausschreibung | Nennung | Facebook-Veranstaltung \n3.Lauf_MAC_Challenge_Ausschreibung
URL:https://mac-meckenheim.de/rennen/11-08-2024-3-lauf-mac-challenge-dmc-sk-lauf-west/
LOCATION:MAC Meckenheim\, Siebengebirgsring\, Meckenheim\, NRW\, 53340\, Germany
CATEGORIES:Rennen
ORGANIZER;CN="MAC Meckenheim":MAILTO:vorstand@mac-meckenheim.de
END:VEVENT
END:VCALENDAR